BEGIN:VCALENDAR
VERSION:2.0
PRODID:-//www.thinkconstruction.org//NONSGML kigkonsult.se iCalcreator 2.30
 .10//
CALSCALE:GREGORIAN
METHOD:PUBLISH
UID:50b77bf7-f56b-4fa9-8337-908f42d2c8db
X-WR-CALDESC:The Construction Education Center is an official provider (#12
 75) of 2026 Continuing Education classes for electricians in the state of 
 Connecticut. It is mandatory for licensed plumbers to attend continuing ed
 ucation classes for a total of 4 CE hours for license renewal. \n\nClasses
  conducted on Zoom must be conducted on either a desktop computer\, laptop
  or tablet.  \n\nDevices must have working cameras and audio (microphone &
  speakers). Phones are not allowed. \n\nAttendees are required to have acc
 ess in class to:\n\n2023 National Electrical Code soft cover book or\n2023
  National Electrical Code & Commentary soft cover book or\n2023 National E
 lectrical Code in an Electronic Format (e-viewer\, PDF\, CD-ROM)\nA functi
 oning calculator\nElectrical License\nPhoto ID\n\nPlease Note: Absence fro
 m a scheduled class will not result in a refund.\n\n
X-WR-RELCALID:ebc20466f0d880614024242eeaf327ef
X-WR-TIMEZONE:America/New_York
BEGIN:VTIMEZONE
TZID:America/New_York
BEGIN:STANDARD
TZNAME:EST
DTSTART:20251102T020000
TZOFFSETFROM:-0400
TZOFFSETTO:-0500
RDATE:20261101T020000
RDATE:20271107T020000
END:STANDARD
BEGIN:DAYLIGHT
TZNAME:EDT
DTSTART:20260308T020000
TZOFFSETFROM:-0500
TZOFFSETTO:-0400
RDATE:20270314T020000
END:DAYLIGHT
END:VTIMEZONE
BEGIN:VEVENT
UID:b33aaaf4-2f97-4b5e-ad10-0081f8d0b1da
DTSTAMP:20260423T061131Z
DESCRIPTION:The Construction Education Center is an official provider (#127
 5) of 2026 Continuing Education classes for electricians in the state of C
 onnecticut. It is mandatory for licensed plumbers to attend continuing edu
 cation classes for a total of 4 CE hours for license renewal. \n\nClasses 
 conducted on Zoom must be conducted on either a desktop computer\, laptop 
 or tablet.  \n\nDevices must have working cameras and audio (microphone & 
 speakers). Phones are not allowed. \n\nAttendees are required to have acce
 ss in class to:\n\n2023 National Electrical Code soft cover book or\n2023 
 National Electrical Code & Commentary soft cover book or\n2023 National El
 ectrical Code in an Electronic Format (e-viewer\, PDF\, CD-ROM)\nA functio
 ning calculator\nElectrical License\nPhoto ID\n\nPlease Note: Absence from
  a scheduled class will not result in a refund.\n\n
DTSTART;TZID=America/New_York:20260530T080000
DTEND;TZID=America/New_York:20260530T120000
LOCATION:ZOOM
SUMMARY:Electrical CEU ZOOM
END:VEVENT
END:VCALENDAR
